BEGIN:VCALENDAR
VERSION:2.0
PRODID:-//Advanced Cardiac Therapies Improving Outcomes Network - ECPv6.15.20//NONSGML v1.0//EN
CALSCALE:GREGORIAN
METHOD:PUBLISH
X-WR-CALNAME:Advanced Cardiac Therapies Improving Outcomes Network
X-ORIGINAL-URL:https://www.actionlearningnetwork.org
X-WR-CALDESC:Events for Advanced Cardiac Therapies Improving Outcomes Network
REFRESH-INTERVAL;VALUE=DURATION:PT1H
X-Robots-Tag:noindex
X-PUBLISHED-TTL:PT1H
BEGIN:VTIMEZONE
TZID:America/New_York
BEGIN:DAYLIGHT
TZOFFSETFROM:-0500
TZOFFSETTO:-0400
TZNAME:EDT
DTSTART:20230312T070000
END:DAYLIGHT
BEGIN:STANDARD
TZOFFSETFROM:-0400
TZOFFSETTO:-0500
TZNAME:EST
DTSTART:20231105T060000
END:STANDARD
BEGIN:DAYLIGHT
TZOFFSETFROM:-0500
TZOFFSETTO:-0400
TZNAME:EDT
DTSTART:20240310T070000
END:DAYLIGHT
BEGIN:STANDARD
TZOFFSETFROM:-0400
TZOFFSETTO:-0500
TZNAME:EST
DTSTART:20241103T060000
END:STANDARD
BEGIN:DAYLIGHT
TZOFFSETFROM:-0500
TZOFFSETTO:-0400
TZNAME:EDT
DTSTART:20250309T070000
END:DAYLIGHT
BEGIN:STANDARD
TZOFFSETFROM:-0400
TZOFFSETTO:-0500
TZNAME:EST
DTSTART:20251102T060000
END:STANDARD
END:VTIMEZONE
BEGIN:VEVENT
DTSTART;TZID=America/New_York:20240509T070000
DTEND;TZID=America/New_York:20240510T223000
DTSTAMP:20260423T163457
CREATED:20240129T154053Z
LAST-MODIFIED:20240129T154538Z
UID:10000083-1715238000-1715380200@www.actionlearningnetwork.org
SUMMARY:2024 International Conference on Pediatric Mechanical Circulatory Support Systems & Pediatric Cardiopulmonary Perfusion
DESCRIPTION:See event website for more info or to register \nThis conference is hosted by the International Society of Pediatric Mechanical Cardiopulmonary Support and gives providers an opportunity to define the problems of current mechanical circulatory support systems in pediatric patients and suggest appropriate solutions for underserved pediatric cardiac patients around the globe. \n\n\nRegister by: May 10\, 2024 \n\n__ \n\n\n\n\n\n\n\nDay 1: Thursday\, May 9 \n\n\n\n\n\n\n\n\n\n\n\n\n7 – 8 a.m | Breakfast and registration \n8 – 8:30 a.m. | Opening remarks and welcome by Robert Niebler\, MD\, and Akif Undar\, PhD \n8:30 – 10:30 a.m. | Session 1: How Do We Get the Data We Need in Pediatrics?  –  20-minute oral presentations followed by panel discussion \n\nAdjudicating Registry Data: Benefits and Pitfalls\, the ACTION Experience by David Kwiatowski\, MD\nLeveraging the Electronic Health Record by Robert Niebler\, MD\nOrganizing and Fostering Academic Output from a Multicenter Learning Network Database – the ACTION Experience by Matthew O’Connor\n\n10:30 – 11 a.m. | Break in the expo hall and poster viewing \n11 – 11:40 a.m. | Keynote lecture – Topic TBD by Angela Lorts\, MD \n11:40 a.m. – noon | Presentation of Young Investigator Awards \nNoon – 1 p.m. | Lunch break \n1 – 3 p.m.| Session 2: Pediatric Device Development: Why Don’t We Have a New Pediatric Device?  –  20 min oral presentations followed by panel discussion \n\nPumpkin: Lessons Learned From the Jarvik Experience by Iki Adachi\, MD\nPediflow Pump by James Antaki\, PhD\nHow Do We Get the Next Device to Help our Pediatric Patients by Shri Deshpande\, MD\nPerspectives on Porting Adult Clinical MCS Outcomes to Pediatric Patients by Kevin Bourque\, MSME\n\n3 – 3:30 p.m. | Break in the expo hall and poster viewing \n3:30 – 4:30 p.m. | Mini oral abstract session #1. – 6 X 10 minutes (7-minute presentation/3 minute question) oral abstract presentations \n4:30 – 6 p.m. | Poster hall reception: Moderated poster session and poster viewing in the expo hall \n7 – 9:30 p.m. | Dinner reception. –  Enjoy an evening connecting with conference attendees\, dining with the finest culinary arrangement. Following dinner you’ll be entertained by NEW Dueling Pianos. This duo brings an interactive\, hilarious\, sing-along/clap-along\, request-driven show that covers practically every music genre! \n\n\n\n\n\n\n\n\n\n\n\n\n  \nDay 2: Friday\, May 10 \n\n\n\n\n\n\n\n\n\n\n\n\n7 – 8 a.m. | Breakfast and networking \n8-10 a.m. | Session 3: Single Ventricle Congenital Heart Disease: Where are we? Where are we going?  –  20 min oral presentations followed by panel discussion \n\nVAD in Single Ventricle Anatomy: The ACTION Experience by Anna Joong\, MD\nCan the Gainesville Experience be Duplicated? by Joseph Phillip\, MD\nShould We Ever Support a Glenn as a Glenn? by Edon Rabinowitz\nInnovating Pediatric VADs in Latin America: Utilizing the HeartMate 3 in Failing Glenn Procedures Enhanced by 3D Printing\, Hemodynamic Simulation and Virtual Reality by Luiz Fernando Caneo\, MD\, PhD\n\n10-10:30 a.m. | Break in the expo hall and poster viewing \n10:30 – 11:30 a.m. | Mini-oral abstract session #2  –  6 X 10 min (7 min presentation/3 min question) oral abstract presentations \n11:30 – 1 p.m. |  Lunch break \n1 – 3 p.m. | Session 4: Cardiopulmonary Perfusion in 2024 –  20 min oral presentations followed by panel discussion \n\nImpact of Perfusion Modalities on Cerebral Hemodynamics and Cerebral Gaseous Microemboli in Risk-stratified Congenital Heart Surgery Patients by Akif Undar\, PhD\nDO2i on CPB Data for Pediatrics by Jim Reagor\nSpectrum Quantum HLM Data Collection by Caleb Varner\nTBD by Hideshi Itoh\, CCP PhD\n\n 3 – 3:30 p.m. |  Break in the expo hall and poster viewing \n 3:30 – 4:30 p.m.  |  Mini-oral abstract session #3  – 6 X 10 min (7 min presentation/3 min question) oral abstract presentations \n4:30 p.m. |  Closing remarks- and announcement for 2025 Conference \n5:30 – 10:30 p.m. | Social event. – Take me out to the ball game! Join us for one of America’s favorite past times as we cheer on the Milwaukee Brewers against the St. Louis Cardinals at American Family Field. This event includes transportation to and from the stadium\, a traditional baseball tailgate and ticket to the game.
URL:https://www.actionlearningnetwork.org/event/2024-international-conference-on-pediatric-mcs-systems-pediatric-cardiopulmonary-perfusion/
LOCATION:The Pfister Hotel\, 424 East Wisconsin Avenue\, Milwaukee\, WI\, United States
CATEGORIES:Conferences
ATTACH;FMTTYPE=image/jpeg:https://www.actionlearningnetwork.org/wp-content/uploads/dfe119320cda4336b0cc0916bcbbf691-1.jpg
END:VEVENT
END:VCALENDAR