BEGIN:VCALENDAR
VERSION:2.0
PRODID:-//Advanced Cardiac Therapies Improving Outcomes Network - ECPv6.15.20//NONSGML v1.0//EN
CALSCALE:GREGORIAN
METHOD:PUBLISH
X-WR-CALNAME:Advanced Cardiac Therapies Improving Outcomes Network
X-ORIGINAL-URL:https://www.actionlearningnetwork.org
X-WR-CALDESC:Events for Advanced Cardiac Therapies Improving Outcomes Network
REFRESH-INTERVAL;VALUE=DURATION:PT1H
X-Robots-Tag:noindex
X-PUBLISHED-TTL:PT1H
BEGIN:VTIMEZONE
TZID:America/New_York
BEGIN:DAYLIGHT
TZOFFSETFROM:-0500
TZOFFSETTO:-0400
TZNAME:EDT
DTSTART:20240310T070000
END:DAYLIGHT
BEGIN:STANDARD
TZOFFSETFROM:-0400
TZOFFSETTO:-0500
TZNAME:EST
DTSTART:20241103T060000
END:STANDARD
BEGIN:DAYLIGHT
TZOFFSETFROM:-0500
TZOFFSETTO:-0400
TZNAME:EDT
DTSTART:20250309T070000
END:DAYLIGHT
BEGIN:STANDARD
TZOFFSETFROM:-0400
TZOFFSETTO:-0500
TZNAME:EST
DTSTART:20251102T060000
END:STANDARD
BEGIN:DAYLIGHT
TZOFFSETFROM:-0500
TZOFFSETTO:-0400
TZNAME:EDT
DTSTART:20260308T070000
END:DAYLIGHT
BEGIN:STANDARD
TZOFFSETFROM:-0400
TZOFFSETTO:-0500
TZNAME:EST
DTSTART:20261101T060000
END:STANDARD
END:VTIMEZONE
BEGIN:VEVENT
DTSTART;VALUE=DATE:20251016
DTEND;VALUE=DATE:20251018
DTSTAMP:20260424T090712
CREATED:20250701T201821Z
LAST-MODIFIED:20250813T170125Z
UID:10000135-1760572800-1760745599@www.actionlearningnetwork.org
SUMMARY:International Pediatric VAD and Heart Failure Summit 2025
DESCRIPTION:The 2025 International Pediatric VAD and Heart Failure Summit will take place in Houston\, Texas from Thursday\, October 16 – Friday\, October 17. \n\nREGISTER:\n2025 International Pediatric VAD and HF Summit Website \n\nABSTRACTS:\nThe meeting website has registration information\, meeting agenda\, hotel information\, and an abstract submission link. The abstract deadline is Friday\, September 5\, 2025 at midnight central time. \n\nACTION PRE-CONFERENCE MEETING:\nThere will also be an in-person only ACTION Pediatric VAD Bootcamp that will take place in Houston on Wednesday\, October 15. \n\nHOTELS:\nThere are several hotels in the Texas Medical Center that are within walking distance of the meeting venue. We have a discounted rate at the Houston Intercontinental Hotel. \n\nQUESTIONS:\nEmail spinner@bcm.edu \n 
URL:https://www.actionlearningnetwork.org/event/international-pediatric-vad-and-heart-failure-summit-2025/
LOCATION:Texas Children’s Hospital\, Houston\, TX\, United States
CATEGORIES:International Pediatric VAD and Heart Failure Summit
ATTACH;FMTTYPE=image/png:https://www.actionlearningnetwork.org/wp-content/uploads/image001-1-e1755104322897.png
END:VEVENT
BEGIN:VEVENT
DTSTART;TZID=America/New_York:20251015T080000
DTEND;TZID=America/New_York:20251015T170000
DTSTAMP:20260424T090712
CREATED:20250701T201210Z
LAST-MODIFIED:20250825T161109Z
UID:10000134-1760515200-1760547600@www.actionlearningnetwork.org
SUMMARY:ACTION VAD Bootcamp 2025
DESCRIPTION:The VAD Bootcamp hosted by ACTION will be a combination hands-on and didactic training session for clinicians seeking to obtain training for Ventricular Assist Devices. \nIt will include multiple device stations\, challenging case presentations\, and an Ask the VAD Experts discussion panel.  Fellows and Junior Faculty will gain a comprehensive understanding of VAD’s in this 1-day Bootcamp.  All are welcome to register and attend\, including any clinician needing introductory or refresher training. \nRegister Now! \n\nSponsored by: \n               
URL:https://www.actionlearningnetwork.org/event/vadbootcamp25/
LOCATION:Texas Children’s Hospital\, Houston\, TX\, United States
CATEGORIES:International Pediatric VAD and Heart Failure Summit
ATTACH;FMTTYPE=image/webp:https://www.actionlearningnetwork.org/wp-content/uploads/b1a63482271c2bf8642b3adcf306fd78_ec9d1e440c5798df6290f8f09875c73c.png-2.webp
END:VEVENT
END:VCALENDAR