BEGIN:VCALENDAR
VERSION:2.0
PRODID:-//Advanced Cardiac Therapies Improving Outcomes Network - ECPv6.15.20//NONSGML v1.0//EN
CALSCALE:GREGORIAN
METHOD:PUBLISH
X-WR-CALNAME:Advanced Cardiac Therapies Improving Outcomes Network
X-ORIGINAL-URL:https://www.actionlearningnetwork.org
X-WR-CALDESC:Events for Advanced Cardiac Therapies Improving Outcomes Network
REFRESH-INTERVAL;VALUE=DURATION:PT1H
X-Robots-Tag:noindex
X-PUBLISHED-TTL:PT1H
BEGIN:VTIMEZONE
TZID:America/New_York
BEGIN:DAYLIGHT
TZOFFSETFROM:-0500
TZOFFSETTO:-0400
TZNAME:EDT
DTSTART:20220313T070000
END:DAYLIGHT
BEGIN:STANDARD
TZOFFSETFROM:-0400
TZOFFSETTO:-0500
TZNAME:EST
DTSTART:20221106T060000
END:STANDARD
BEGIN:DAYLIGHT
TZOFFSETFROM:-0500
TZOFFSETTO:-0400
TZNAME:EDT
DTSTART:20230312T070000
END:DAYLIGHT
BEGIN:STANDARD
TZOFFSETFROM:-0400
TZOFFSETTO:-0500
TZNAME:EST
DTSTART:20231105T060000
END:STANDARD
BEGIN:DAYLIGHT
TZOFFSETFROM:-0500
TZOFFSETTO:-0400
TZNAME:EDT
DTSTART:20240310T070000
END:DAYLIGHT
BEGIN:STANDARD
TZOFFSETFROM:-0400
TZOFFSETTO:-0500
TZNAME:EST
DTSTART:20241103T060000
END:STANDARD
END:VTIMEZONE
BEGIN:VEVENT
DTSTART;TZID=America/New_York:20230615T172000
DTEND;TZID=America/New_York:20230615T173000
DTSTAMP:20260421T113534
CREATED:20230525T175636Z
LAST-MODIFIED:20230525T182811Z
UID:10000072-1686849600-1686850200@www.actionlearningnetwork.org
SUMMARY:ASAIO Abstract: VAD Discharge at Pediatric Centers- Why Can’t We Get Home?
DESCRIPTION:PEDIATRIC SESSION \nFor more information\, visit the ASAIO website: \nSee More!
URL:https://www.actionlearningnetwork.org/event/asaio2023_tunuguntla/
LOCATION:San Francisco Marriott Marquis\, San Francisco\, CA\, United States
CATEGORIES:ASAIO,Conferences
ATTACH;FMTTYPE=image/png:https://www.actionlearningnetwork.org/wp-content/uploads/ASAIOAbstracts_2023_5Tunuguntla.png
END:VEVENT
BEGIN:VEVENT
DTSTART;TZID=America/New_York:20230615T171000
DTEND;TZID=America/New_York:20230615T172000
DTSTAMP:20260421T113534
CREATED:20230525T175433Z
LAST-MODIFIED:20230525T182903Z
UID:10000071-1686849000-1686849600@www.actionlearningnetwork.org
SUMMARY:ASAIO Abstract: Postoperative Anticoagulation With Bivalirudin Versus Heparin For HeartMate 3 in children
DESCRIPTION:PEDIATRIC SESSION \nFor more information\, visit the ASAIO website: \nSee More!
URL:https://www.actionlearningnetwork.org/event/asaio2023_ramirez2/
LOCATION:San Francisco Marriott Marquis\, San Francisco\, CA\, United States
CATEGORIES:ASAIO,Conferences
ATTACH;FMTTYPE=image/png:https://www.actionlearningnetwork.org/wp-content/uploads/ASAIOAbstracts_2023_4Ramirez2.png
END:VEVENT
BEGIN:VEVENT
DTSTART;TZID=America/New_York:20230615T165000
DTEND;TZID=America/New_York:20230615T170000
DTSTAMP:20260421T113534
CREATED:20230525T173849Z
LAST-MODIFIED:20230525T182925Z
UID:10000070-1686847800-1686848400@www.actionlearningnetwork.org
SUMMARY:ASAIO Abstract: Impact of Mechanical Ventilation Duration on Outcomes in Children after Ventricular Assist Device Placement: A linked analysis from...
DESCRIPTION:PEDIATRIC SESSION \nFor more information\, visit the ASAIO website: \nSee More!
URL:https://www.actionlearningnetwork.org/event/asaio2023_perry/
LOCATION:San Francisco Marriott Marquis\, San Francisco\, CA\, United States
CATEGORIES:ASAIO,Conferences
ATTACH;FMTTYPE=image/png:https://www.actionlearningnetwork.org/wp-content/uploads/ASAIOAbstracts_2023_3Perry.png
END:VEVENT
BEGIN:VEVENT
DTSTART;TZID=America/New_York:20230615T164000
DTEND;TZID=America/New_York:20230615T165000
DTSTAMP:20260421T113534
CREATED:20230525T173524Z
LAST-MODIFIED:20230525T183013Z
UID:10000069-1686847200-1686847800@www.actionlearningnetwork.org
SUMMARY:ASAIO Abstract: Development and Validation of a Novel Pediatric Mechanical Circulatory Support Risk Stratification Tool: ACTION MCS Risk Score
DESCRIPTION:PEDIATRIC SESSION \nFor more information\, visit the ASAIO website: \nSee More!
URL:https://www.actionlearningnetwork.org/event/asaio2023_ramirez1/
LOCATION:San Francisco Marriott Marquis\, San Francisco\, CA\, United States
CATEGORIES:ASAIO,Conferences
ATTACH;FMTTYPE=image/png:https://www.actionlearningnetwork.org/wp-content/uploads/ASAIOAbstracts_2023_2Ramirez1.png
END:VEVENT
BEGIN:VEVENT
DTSTART;TZID=America/New_York:20230615T091600
DTEND;TZID=America/New_York:20230615T092600
DTSTAMP:20260421T113534
CREATED:20230525T172828Z
LAST-MODIFIED:20230525T183038Z
UID:10000068-1686820560-1686821160@www.actionlearningnetwork.org
SUMMARY:ASAIO Abstract: Over 100 Fontan Patients on Ventricular Assist Device Support: An ACTION Update
DESCRIPTION:GENERAL SESSION \nFor more information\, visit the ASAIO website: \nSee More!
URL:https://www.actionlearningnetwork.org/event/asaio2023_chen/
LOCATION:San Francisco Marriott Marquis\, San Francisco\, CA\, United States
CATEGORIES:ASAIO,Conferences
ATTACH;FMTTYPE=image/png:https://www.actionlearningnetwork.org/wp-content/uploads/ASAIOAbstracts_2023_1Chen.png
END:VEVENT
BEGIN:VEVENT
DTSTART;VALUE=DATE:20230614
DTEND;VALUE=DATE:20230618
DTSTAMP:20260421T113534
CREATED:20230309T220203Z
LAST-MODIFIED:20230418T141740Z
UID:10000057-1686700800-1687046399@www.actionlearningnetwork.org
SUMMARY:ASAIO 68th Annual Conference (ft. Pediatric Programming)
DESCRIPTION:Register for 68th Annual ASAIO Conference featuring the Pediatric Medical Device Day and Pediatric Programming\nFor more information\, visit the ASAIO Registration website: \nRegister Now!\n  \nAgenda\n8:00am – 5:00pm Pediatric Medical Device Day\n(*Separate Registration Required/ Must Have Ticket to Attend) \nTheme: Lessons Learned \n8:00am – 10:00am\nPediatric Day Session 1: Lessons Learned in Clinical Management\nSession Moderators: Jennifer Conway MD\, MSC; Robert Jaquiss\, MD \n8:00am – 8:15am\nIntroduction\nJennifer Conway\, MD\, MSC \n8:15am – 8:30am\nTop 10 VAD Rules I live by\nAamir Jeewa\, MD \n8:30am – 8:45am\nWhat I Have Learned From a Case Gone Wrong\nDaniel Zimpfer\, MD \n8:45am – 9:00am\nWhat I Have Learned About Developing a VAD Program\nJodie Lantz\, MD \n9:00am – 9:15am\nWhat I Have Learned From Having a VAD Stroke Team\nTBD \n9:15am – 9:30am\nLessons Learned From Congenital Patients With VADs\nTBD \n9:30am – 9:45am\nWhat I have learned from looking after adult and pediatric patients?\nHolger Buchholz\, MD \n9:45am – 10:00am\nDiscussion \n__________ \n10:00am – 10:30am\nCoffee Break \n__________ \n10:30am – 12:30pm\nPediatric Day Session 2: Lessons Learned in Device Development\nSession Moderators: Trevor A. Snyder\, PhD; Iki Adachi\, MD \n10:30am – 10:45am\nFrom My Basement To Clinical Use\, What I Have Learnt Along The Way\nDarren Freed\, MD \n10:45am – 11:00am\nWhat I learnt from Working with the FDA?\nRobert M. Kroslowitz\, BS \n11:00am – 11:15am\nWhat I Think Are The Key Points People Need To Know From The FDA?\nTBD \n11:15am – 11:30am\nWhat I Learned From Trying To Fund Pediatric Research?\nTim Nelson\, MD \n11:30am – 11:45am\nWhat I have Learned From A Device Not Making It To Market Yet?\nTBD \n11:45am – 12:00pm\nLessons Learned from Removal of the Heartware HVAD\nJennifer Conway\, MD\, MSC \n12:00pm – 12:30pm\nDiscussion \n__________ \n12:30pm – 1:30pm Pediatric Lunch Break \n__________ \n1:30pm – 3:00pm\nPediatric Day Session 3: Pushing Boundaries When the Lessons From Research Would Say Stop\nSession Moderators: Harvey S. Borovetz\, PhD; Iki Adachi\, MD \n1:30pm – 1:50pm\nHow to Navigate Research Outcomes And Innovation?\nTBD \n1:50pm – 2:10pm\nHow We Convinced Our Program To Pursue A Stage I Single Ventricle VAD Program Despite The Outcomes?\nJoseph Phillips\, MD \n2:10pm – 2:30pm\nHow I Decided To Use Oral Direct Anti-Coagulants In Kids With VADs When No One Else Has?\nRyan Kobayashi\, MD \n2:30pm – 2:50pm\nIs there Anyone we should say No to for MCS?\nDavid Rosenthal\, MD \n2:50pm – 3:00pm\nDiscussion \n3:00pm – 5:00pm\nPediatric Day Session 4: Innovation in Pediatric MCS\nSession Moderators: Robert Jaquiss\, MD; Peter Wearden\, MD\, PhD \n3:00pm – 3:20pm\nHow Can We Improve On VAD Design For Kids?\nTrevor A. Snyder\, PhD \n3:20pm – 3:50pm\nCan ECMO Get Better?\nShriprasad Deshpande\, MBBS\, MS \n3:50pm – 4:10pm\nTubing and Cannulas- The Endless Thrombosis Problem\nSalim E. Olia\, PhD \n4:10pm – 4:30pm\nCreating a Sub Pulmonary Ventricle In Someone Who Doesn’t Have One\nRyan Davies\, MD \n4:30pm – 4:50pm\nMy MCS Wish List\nTBD \n4:50pm – 5:00pm\nDiscussion
URL:https://www.actionlearningnetwork.org/event/asaio68/
LOCATION:San Francisco Marriott Marquis\, San Francisco\, CA\, United States
CATEGORIES:ASAIO,Conferences
ATTACH;FMTTYPE=image/png:https://www.actionlearningnetwork.org/wp-content/uploads/ASAIO68-e1678399367170.png
END:VEVENT
END:VCALENDAR