BEGIN:VCALENDAR
VERSION:2.0
PRODID:-//Advanced Cardiac Therapies Improving Outcomes Network - ECPv6.15.20//NONSGML v1.0//EN
CALSCALE:GREGORIAN
METHOD:PUBLISH
X-WR-CALNAME:Advanced Cardiac Therapies Improving Outcomes Network
X-ORIGINAL-URL:https://www.actionlearningnetwork.org
X-WR-CALDESC:Events for Advanced Cardiac Therapies Improving Outcomes Network
REFRESH-INTERVAL;VALUE=DURATION:PT1H
X-Robots-Tag:noindex
X-PUBLISHED-TTL:PT1H
BEGIN:VTIMEZONE
TZID:America/New_York
BEGIN:DAYLIGHT
TZOFFSETFROM:-0500
TZOFFSETTO:-0400
TZNAME:EDT
DTSTART:20240310T070000
END:DAYLIGHT
BEGIN:STANDARD
TZOFFSETFROM:-0400
TZOFFSETTO:-0500
TZNAME:EST
DTSTART:20241103T060000
END:STANDARD
BEGIN:DAYLIGHT
TZOFFSETFROM:-0500
TZOFFSETTO:-0400
TZNAME:EDT
DTSTART:20250309T070000
END:DAYLIGHT
BEGIN:STANDARD
TZOFFSETFROM:-0400
TZOFFSETTO:-0500
TZNAME:EST
DTSTART:20251102T060000
END:STANDARD
BEGIN:DAYLIGHT
TZOFFSETFROM:-0500
TZOFFSETTO:-0400
TZNAME:EDT
DTSTART:20260308T070000
END:DAYLIGHT
BEGIN:STANDARD
TZOFFSETFROM:-0400
TZOFFSETTO:-0500
TZNAME:EST
DTSTART:20261101T060000
END:STANDARD
END:VTIMEZONE
BEGIN:VEVENT
DTSTART;VALUE=DATE:20250220
DTEND;VALUE=DATE:20250222
DTSTAMP:20260423T211602
CREATED:20250131T012143Z
LAST-MODIFIED:20250131T012143Z
UID:10000108-1740009600-1740182399@www.actionlearningnetwork.org
SUMMARY:13th Annual Utah Cardiac Recovery Symposium (U-CARS) 2025
DESCRIPTION:The 2025 U-CARS symposium will be hosted in person at the Salt Lake City Marriot University Park\, located on the University of Utah campus in scenic Salt Lake City\, Utah. \nThe objective of this conference is to bring thought leaders together to exchange ideas\, debate paradigms\, and share information directly focused on issues related to myocardial recovery and regeneration.  Topics will expand across the basic\, translational\, and clinical sciences to provide a unique forum to push the field of heart recovery forward. \n2025 U-CARS KEYNOTE SPEAKER:\n\nMichael R. Bristow\, MD\, PhD\nProfessor of Medicine (Cardiology)\, University of Colorado Anschutz Medical Campus\nDirector\, Pharmacogenomics\, University of Colorado Cardiovascular Institute \n  \nSee Full Conference Details
URL:https://www.actionlearningnetwork.org/event/13th-annual-utah-cardiac-recovery-symposium-u-cars-2025/
LOCATION:Salt Lake City Marriott University Park\, 480 Wakara Way\, Salt Lake City\, UT\, 84108\, United States
CATEGORIES:CHOP,Conferences
ATTACH;FMTTYPE=image/png:https://www.actionlearningnetwork.org/wp-content/uploads/UCARS_Email_Header_2025_1-9e8c5fd76cd54be0.png
END:VEVENT
END:VCALENDAR