BEGIN:VCALENDAR
VERSION:2.0
PRODID:-//Advanced Cardiac Therapies Improving Outcomes Network - ECPv6.15.20//NONSGML v1.0//EN
CALSCALE:GREGORIAN
METHOD:PUBLISH
X-WR-CALNAME:Advanced Cardiac Therapies Improving Outcomes Network
X-ORIGINAL-URL:https://www.actionlearningnetwork.org
X-WR-CALDESC:Events for Advanced Cardiac Therapies Improving Outcomes Network
REFRESH-INTERVAL;VALUE=DURATION:PT1H
X-Robots-Tag:noindex
X-PUBLISHED-TTL:PT1H
BEGIN:VTIMEZONE
TZID:America/New_York
BEGIN:DAYLIGHT
TZOFFSETFROM:-0500
TZOFFSETTO:-0400
TZNAME:EDT
DTSTART:20240310T070000
END:DAYLIGHT
BEGIN:STANDARD
TZOFFSETFROM:-0400
TZOFFSETTO:-0500
TZNAME:EST
DTSTART:20241103T060000
END:STANDARD
BEGIN:DAYLIGHT
TZOFFSETFROM:-0500
TZOFFSETTO:-0400
TZNAME:EDT
DTSTART:20250309T070000
END:DAYLIGHT
BEGIN:STANDARD
TZOFFSETFROM:-0400
TZOFFSETTO:-0500
TZNAME:EST
DTSTART:20251102T060000
END:STANDARD
BEGIN:DAYLIGHT
TZOFFSETFROM:-0500
TZOFFSETTO:-0400
TZNAME:EDT
DTSTART:20260308T070000
END:DAYLIGHT
BEGIN:STANDARD
TZOFFSETFROM:-0400
TZOFFSETTO:-0500
TZNAME:EST
DTSTART:20261101T060000
END:STANDARD
END:VTIMEZONE
BEGIN:VEVENT
DTSTART;TZID=America/New_York:20250427T180000
DTEND;TZID=America/New_York:20250427T190000
DTSTAMP:20260424T005905
CREATED:20250313T195847Z
LAST-MODIFIED:20250313T200724Z
UID:10000116-1745776800-1745780400@www.actionlearningnetwork.org
SUMMARY:ACTION @ ISHLT '25: Beta-Blocker Initiation in Pediatric Heart Failure
DESCRIPTION:
URL:https://www.actionlearningnetwork.org/event/ishlt25-benvenuto/
LOCATION:John B. Hynes Veterans Memorial Convention Center\, Boston\, MA\, United States
CATEGORIES:Conferences,ISHLT
ATTACH;FMTTYPE=image/png:https://www.actionlearningnetwork.org/wp-content/uploads/ISHLTAbstracts_2025_03.png
END:VEVENT
BEGIN:VEVENT
DTSTART;TZID=America/New_York:20250427T152400
DTEND;TZID=America/New_York:20250427T153200
DTSTAMP:20260424T005905
CREATED:20250313T195548Z
LAST-MODIFIED:20250313T200753Z
UID:10000115-1745767440-1745767920@www.actionlearningnetwork.org
SUMMARY:ACTION @ ISHLT '25: Multi-Center Study Evaluating Outcomes of Right Heart Failure After Pediatric Left Ventricular Assist Device Implantation
DESCRIPTION:
URL:https://www.actionlearningnetwork.org/event/ishlt25-brinkley/
LOCATION:John B. Hynes Veterans Memorial Convention Center\, Boston\, MA\, United States
CATEGORIES:Conferences,ISHLT
ATTACH;FMTTYPE=image/png:https://www.actionlearningnetwork.org/wp-content/uploads/ISHLTAbstracts_2025_02.png
END:VEVENT
BEGIN:VEVENT
DTSTART;TZID=America/New_York:20250427T150000
DTEND;TZID=America/New_York:20250427T150800
DTSTAMP:20260424T005905
CREATED:20250313T195138Z
LAST-MODIFIED:20250313T200808Z
UID:10000114-1745766000-1745766480@www.actionlearningnetwork.org
SUMMARY:ACTION @ ISHLT '25: SGLT2i in Congenital Heart Disease: An Analysis of the ACTION Heart Failure Registry
DESCRIPTION:
URL:https://www.actionlearningnetwork.org/event/ishlt25-alsaleh/
LOCATION:John B. Hynes Veterans Memorial Convention Center\, Boston\, MA\, United States
CATEGORIES:Conferences,ISHLT
ATTACH;FMTTYPE=image/png:https://www.actionlearningnetwork.org/wp-content/uploads/ISHLTAbstracts_2025_01.png
END:VEVENT
BEGIN:VEVENT
DTSTART;VALUE=DATE:20250427
DTEND;VALUE=DATE:20250501
DTSTAMP:20260424T005905
CREATED:20250131T013006Z
LAST-MODIFIED:20250423T185151Z
UID:10000109-1745712000-1746057599@www.actionlearningnetwork.org
SUMMARY:ACTION @ ISHLT 45th Annual Meeting & Scientific Sessions 2025
DESCRIPTION:ACTION @ ISHLT details:\n \n  \nThe Final Scientific Program and Online Program Viewer are available. Check out the details for all symposia and abstract sessions\, and filter the content by core therapy or practice area.
URL:https://www.actionlearningnetwork.org/event/ishlt2025/
LOCATION:John B. Hynes Veterans Memorial Convention Center\, Boston\, MA\, United States
CATEGORIES:Conferences,ISHLT
ATTACH;FMTTYPE=image/png:https://www.actionlearningnetwork.org/wp-content/uploads/ISHLTAbstracts_2025_ALL.png
END:VEVENT
END:VCALENDAR