BEGIN:VCALENDAR
VERSION:2.0
PRODID:-//Advanced Cardiac Therapies Improving Outcomes Network - ECPv6.15.20//NONSGML v1.0//EN
CALSCALE:GREGORIAN
METHOD:PUBLISH
X-WR-CALNAME:Advanced Cardiac Therapies Improving Outcomes Network
X-ORIGINAL-URL:https://www.actionlearningnetwork.org
X-WR-CALDESC:Events for Advanced Cardiac Therapies Improving Outcomes Network
REFRESH-INTERVAL;VALUE=DURATION:PT1H
X-Robots-Tag:noindex
X-PUBLISHED-TTL:PT1H
BEGIN:VTIMEZONE
TZID:America/New_York
BEGIN:DAYLIGHT
TZOFFSETFROM:-0500
TZOFFSETTO:-0400
TZNAME:EDT
DTSTART:20240310T070000
END:DAYLIGHT
BEGIN:STANDARD
TZOFFSETFROM:-0400
TZOFFSETTO:-0500
TZNAME:EST
DTSTART:20241103T060000
END:STANDARD
BEGIN:DAYLIGHT
TZOFFSETFROM:-0500
TZOFFSETTO:-0400
TZNAME:EDT
DTSTART:20250309T070000
END:DAYLIGHT
BEGIN:STANDARD
TZOFFSETFROM:-0400
TZOFFSETTO:-0500
TZNAME:EST
DTSTART:20251102T060000
END:STANDARD
BEGIN:DAYLIGHT
TZOFFSETFROM:-0500
TZOFFSETTO:-0400
TZNAME:EDT
DTSTART:20260308T070000
END:DAYLIGHT
BEGIN:STANDARD
TZOFFSETFROM:-0400
TZOFFSETTO:-0500
TZNAME:EST
DTSTART:20261101T060000
END:STANDARD
END:VTIMEZONE
BEGIN:VEVENT
DTSTART;TZID=America/New_York:20250429T171500
DTEND;TZID=America/New_York:20250429T172300
DTSTAMP:20260423T225027
CREATED:20250313T202733Z
LAST-MODIFIED:20250313T202733Z
UID:10000128-1745946900-1745947380@www.actionlearningnetwork.org
SUMMARY:ACTION @ ISHLT '25: Global Collaborative to Review Stroke Events in Pediatric Ventricular Assist Device Support: ACTION Initiative
DESCRIPTION:
URL:https://www.actionlearningnetwork.org/event/ishlt25-kimh/
LOCATION:John B. Hynes Veterans Memorial Convention Center\, Boston\, MA\, United States
CATEGORIES:Conferences,ISHLT
ATTACH;FMTTYPE=image/png:https://www.actionlearningnetwork.org/wp-content/uploads/ISHLTAbstracts_2025_15HK.png
END:VEVENT
BEGIN:VEVENT
DTSTART;TZID=America/New_York:20250429T160000
DTEND;TZID=America/New_York:20250429T160800
DTSTAMP:20260423T225027
CREATED:20250313T202602Z
LAST-MODIFIED:20250313T202602Z
UID:10000127-1745942400-1745942880@www.actionlearningnetwork.org
SUMMARY:ACTION @ ISHLT '25: Characteristics and Outcomes of the Impella VAD in Pediatric Patients: A Report from the ACTION Learning Network
DESCRIPTION:
URL:https://www.actionlearningnetwork.org/event/ishlt25-edelson/
LOCATION:John B. Hynes Veterans Memorial Convention Center\, Boston\, MA\, United States
CATEGORIES:Conferences,ISHLT
ATTACH;FMTTYPE=image/png:https://www.actionlearningnetwork.org/wp-content/uploads/ISHLTAbstracts_2025_14.png
END:VEVENT
BEGIN:VEVENT
DTSTART;TZID=America/New_York:20250429T154800
DTEND;TZID=America/New_York:20250429T155600
DTSTAMP:20260423T225027
CREATED:20250313T202430Z
LAST-MODIFIED:20250313T202430Z
UID:10000126-1745941680-1745942160@www.actionlearningnetwork.org
SUMMARY:ACTION @ ISHLT '25: Outcomes in Children Supported with Paracorporeal Continuous Compared to Paracorporeal Pulsatile Ventricular Assist Devices
DESCRIPTION:
URL:https://www.actionlearningnetwork.org/event/ishlt25-turner/
LOCATION:John B. Hynes Veterans Memorial Convention Center\, Boston\, MA\, United States
CATEGORIES:Conferences,ISHLT
ATTACH;FMTTYPE=image/png:https://www.actionlearningnetwork.org/wp-content/uploads/ISHLTAbstracts_2025_13.png
END:VEVENT
BEGIN:VEVENT
DTSTART;TZID=America/New_York:20250429T152400
DTEND;TZID=America/New_York:20250429T153200
DTSTAMP:20260423T225027
CREATED:20250313T202300Z
LAST-MODIFIED:20250313T202326Z
UID:10000125-1745940240-1745940720@www.actionlearningnetwork.org
SUMMARY:ACTION @ ISHLT '25: A Growing Understanding of Ventricular Assist Device Outcomes in Infants with Stage 1 Single Ventricle Palliation
DESCRIPTION:
URL:https://www.actionlearningnetwork.org/event/ishlt25-harris-2/
LOCATION:John B. Hynes Veterans Memorial Convention Center\, Boston\, MA\, United States
CATEGORIES:Conferences,ISHLT
ATTACH;FMTTYPE=image/png:https://www.actionlearningnetwork.org/wp-content/uploads/ISHLTAbstracts_2025_12.png
END:VEVENT
BEGIN:VEVENT
DTSTART;TZID=America/New_York:20250429T151200
DTEND;TZID=America/New_York:20250429T152000
DTSTAMP:20260423T225027
CREATED:20250313T202110Z
LAST-MODIFIED:20250313T202123Z
UID:10000124-1745939520-1745940000@www.actionlearningnetwork.org
SUMMARY:ACTION @ ISHLT '25: A Contemporary Look at the Hazard of Stroke Across a Year of Support on Pediatric Paracorporeal VAD Support Using the ACTION Registry
DESCRIPTION:
URL:https://www.actionlearningnetwork.org/event/ishlt25-murray/
LOCATION:John B. Hynes Veterans Memorial Convention Center\, Boston\, MA\, United States
CATEGORIES:Conferences,ISHLT
ATTACH;FMTTYPE=image/png:https://www.actionlearningnetwork.org/wp-content/uploads/ISHLTAbstracts_2025_11.png
END:VEVENT
BEGIN:VEVENT
DTSTART;TZID=America/New_York:20250429T150000
DTEND;TZID=America/New_York:20250429T150800
DTSTAMP:20260423T225027
CREATED:20250313T201947Z
LAST-MODIFIED:20250313T201947Z
UID:10000123-1745938800-1745939280@www.actionlearningnetwork.org
SUMMARY:ACTION @ ISHLT '25: Berlin Heart EXCOR Outcomes in the Current Era: A Report from the ACTION Registry
DESCRIPTION:
URL:https://www.actionlearningnetwork.org/event/ishlt25-wright/
LOCATION:John B. Hynes Veterans Memorial Convention Center\, Boston\, MA\, United States
CATEGORIES:Conferences,ISHLT
ATTACH;FMTTYPE=image/png:https://www.actionlearningnetwork.org/wp-content/uploads/ISHLTAbstracts_2025_10.png
END:VEVENT
BEGIN:VEVENT
DTSTART;TZID=America/New_York:20250429T110000
DTEND;TZID=America/New_York:20250429T231200
DTSTAMP:20260423T225027
CREATED:20250313T201812Z
LAST-MODIFIED:20250313T201812Z
UID:10000122-1745924400-1745968320@www.actionlearningnetwork.org
SUMMARY:ACTION @ ISHLT '25: Evaluation of Gender Disparities Among Pediatric Patients with the Heartmate 3 Ventricular Assist Device
DESCRIPTION:
URL:https://www.actionlearningnetwork.org/event/ishlt25-chaudhary/
LOCATION:John B. Hynes Veterans Memorial Convention Center\, Boston\, MA\, United States
CATEGORIES:Conferences,ISHLT
ATTACH;FMTTYPE=image/png:https://www.actionlearningnetwork.org/wp-content/uploads/ISHLTAbstracts_2025_09.png
END:VEVENT
BEGIN:VEVENT
DTSTART;TZID=America/New_York:20250428T172400
DTEND;TZID=America/New_York:20250428T172800
DTSTAMP:20260423T225027
CREATED:20250313T201604Z
LAST-MODIFIED:20250313T201604Z
UID:10000121-1745861040-1745861280@www.actionlearningnetwork.org
SUMMARY:ACTION @ ISHLT '25: Initial ACTION Multicenter Experience with Wireless Pulmonary Artery Pressure Monitoring in Children and Adults with Congenital Heart Disease
DESCRIPTION:
URL:https://www.actionlearningnetwork.org/event/ishlt25-esch/
LOCATION:John B. Hynes Veterans Memorial Convention Center\, Boston\, MA\, United States
CATEGORIES:Conferences,ISHLT
ATTACH;FMTTYPE=image/png:https://www.actionlearningnetwork.org/wp-content/uploads/ISHLTAbstracts_2025_08.png
END:VEVENT
BEGIN:VEVENT
DTSTART;TZID=America/New_York:20250428T171800
DTEND;TZID=America/New_York:20250428T172200
DTSTAMP:20260423T225027
CREATED:20250313T201432Z
LAST-MODIFIED:20250313T201432Z
UID:10000120-1745860680-1745860920@www.actionlearningnetwork.org
SUMMARY:ACTION @ ISHLT '25: Apixaban Anticoagulation For HeartMate 3 Ventricular Assist Device Support in Children and Young Adults: Action Analysis of Real World Utilization
DESCRIPTION:
URL:https://www.actionlearningnetwork.org/event/ishlt25-vanderpluym/
LOCATION:John B. Hynes Veterans Memorial Convention Center\, Boston\, MA\, United States
CATEGORIES:Conferences,ISHLT
ATTACH;FMTTYPE=image/png:https://www.actionlearningnetwork.org/wp-content/uploads/ISHLTAbstracts_2025_07.png
END:VEVENT
BEGIN:VEVENT
DTSTART;TZID=America/New_York:20250428T170000
DTEND;TZID=America/New_York:20250428T170400
DTSTAMP:20260423T225027
CREATED:20250313T201245Z
LAST-MODIFIED:20250313T201245Z
UID:10000119-1745859600-1745859840@www.actionlearningnetwork.org
SUMMARY:ACTION @ ISHLT '25: Impact of Antiplatelet Therapy on Outcomes in Berlin Heart EXCOR Patients
DESCRIPTION:
URL:https://www.actionlearningnetwork.org/event/ishlt25-brown/
LOCATION:John B. Hynes Veterans Memorial Convention Center\, Boston\, MA\, United States
CATEGORIES:Conferences,ISHLT
ATTACH;FMTTYPE=image/png:https://www.actionlearningnetwork.org/wp-content/uploads/ISHLTAbstracts_2025_06.png
END:VEVENT
BEGIN:VEVENT
DTSTART;TZID=America/New_York:20250428T163000
DTEND;TZID=America/New_York:20250428T173000
DTSTAMP:20260423T225027
CREATED:20250313T201030Z
LAST-MODIFIED:20250313T201030Z
UID:10000118-1745857800-1745861400@www.actionlearningnetwork.org
SUMMARY:ACTION @ ISHLT '25: Current Global Trends and Challenges Utilizing Pediatric Ventricular Assist Devices: An ACTION Collaborative Survey
DESCRIPTION:
URL:https://www.actionlearningnetwork.org/event/ishlt25-kima/
LOCATION:John B. Hynes Veterans Memorial Convention Center\, Boston\, MA\, United States
CATEGORIES:Conferences,ISHLT
ATTACH;FMTTYPE=image/png:https://www.actionlearningnetwork.org/wp-content/uploads/ISHLTAbstracts_2025_05.png
END:VEVENT
BEGIN:VEVENT
DTSTART;TZID=America/New_York:20250427T180000
DTEND;TZID=America/New_York:20250427T190000
DTSTAMP:20260423T225027
CREATED:20250313T200612Z
LAST-MODIFIED:20250313T200718Z
UID:10000117-1745776800-1745780400@www.actionlearningnetwork.org
SUMMARY:ACTION @ ISHLT '25: Long-Term Outcomes of Ventricular Assist Devices in Obese Pediatric Patients: An ACTION Registry Study
DESCRIPTION:
URL:https://www.actionlearningnetwork.org/event/ishlt25-raja/
LOCATION:John B. Hynes Veterans Memorial Convention Center\, Boston\, MA\, United States
CATEGORIES:Conferences,ISHLT
ATTACH;FMTTYPE=image/png:https://www.actionlearningnetwork.org/wp-content/uploads/ISHLTAbstracts_2025_04KR.png
END:VEVENT
BEGIN:VEVENT
DTSTART;TZID=America/New_York:20250427T180000
DTEND;TZID=America/New_York:20250427T190000
DTSTAMP:20260423T225027
CREATED:20250313T195847Z
LAST-MODIFIED:20250313T200724Z
UID:10000116-1745776800-1745780400@www.actionlearningnetwork.org
SUMMARY:ACTION @ ISHLT '25: Beta-Blocker Initiation in Pediatric Heart Failure
DESCRIPTION:
URL:https://www.actionlearningnetwork.org/event/ishlt25-benvenuto/
LOCATION:John B. Hynes Veterans Memorial Convention Center\, Boston\, MA\, United States
CATEGORIES:Conferences,ISHLT
ATTACH;FMTTYPE=image/png:https://www.actionlearningnetwork.org/wp-content/uploads/ISHLTAbstracts_2025_03.png
END:VEVENT
BEGIN:VEVENT
DTSTART;TZID=America/New_York:20250427T152400
DTEND;TZID=America/New_York:20250427T153200
DTSTAMP:20260423T225027
CREATED:20250313T195548Z
LAST-MODIFIED:20250313T200753Z
UID:10000115-1745767440-1745767920@www.actionlearningnetwork.org
SUMMARY:ACTION @ ISHLT '25: Multi-Center Study Evaluating Outcomes of Right Heart Failure After Pediatric Left Ventricular Assist Device Implantation
DESCRIPTION:
URL:https://www.actionlearningnetwork.org/event/ishlt25-brinkley/
LOCATION:John B. Hynes Veterans Memorial Convention Center\, Boston\, MA\, United States
CATEGORIES:Conferences,ISHLT
ATTACH;FMTTYPE=image/png:https://www.actionlearningnetwork.org/wp-content/uploads/ISHLTAbstracts_2025_02.png
END:VEVENT
BEGIN:VEVENT
DTSTART;TZID=America/New_York:20250427T150000
DTEND;TZID=America/New_York:20250427T150800
DTSTAMP:20260423T225027
CREATED:20250313T195138Z
LAST-MODIFIED:20250313T200808Z
UID:10000114-1745766000-1745766480@www.actionlearningnetwork.org
SUMMARY:ACTION @ ISHLT '25: SGLT2i in Congenital Heart Disease: An Analysis of the ACTION Heart Failure Registry
DESCRIPTION:
URL:https://www.actionlearningnetwork.org/event/ishlt25-alsaleh/
LOCATION:John B. Hynes Veterans Memorial Convention Center\, Boston\, MA\, United States
CATEGORIES:Conferences,ISHLT
ATTACH;FMTTYPE=image/png:https://www.actionlearningnetwork.org/wp-content/uploads/ISHLTAbstracts_2025_01.png
END:VEVENT
BEGIN:VEVENT
DTSTART;VALUE=DATE:20250427
DTEND;VALUE=DATE:20250501
DTSTAMP:20260423T225027
CREATED:20250131T013006Z
LAST-MODIFIED:20250423T185151Z
UID:10000109-1745712000-1746057599@www.actionlearningnetwork.org
SUMMARY:ACTION @ ISHLT 45th Annual Meeting & Scientific Sessions 2025
DESCRIPTION:ACTION @ ISHLT details:\n \n  \nThe Final Scientific Program and Online Program Viewer are available. Check out the details for all symposia and abstract sessions\, and filter the content by core therapy or practice area.
URL:https://www.actionlearningnetwork.org/event/ishlt2025/
LOCATION:John B. Hynes Veterans Memorial Convention Center\, Boston\, MA\, United States
CATEGORIES:Conferences,ISHLT
ATTACH;FMTTYPE=image/png:https://www.actionlearningnetwork.org/wp-content/uploads/ISHLTAbstracts_2025_ALL.png
END:VEVENT
END:VCALENDAR