BEGIN:VCALENDAR
VERSION:2.0
PRODID:-//Advanced Cardiac Therapies Improving Outcomes Network - ECPv6.15.20//NONSGML v1.0//EN
CALSCALE:GREGORIAN
METHOD:PUBLISH
X-WR-CALNAME:Advanced Cardiac Therapies Improving Outcomes Network
X-ORIGINAL-URL:https://www.actionlearningnetwork.org
X-WR-CALDESC:Events for Advanced Cardiac Therapies Improving Outcomes Network
REFRESH-INTERVAL;VALUE=DURATION:PT1H
X-Robots-Tag:noindex
X-PUBLISHED-TTL:PT1H
BEGIN:VTIMEZONE
TZID:America/Phoenix
BEGIN:STANDARD
TZOFFSETFROM:-0700
TZOFFSETTO:-0700
TZNAME:MST
DTSTART:20230101T000000
END:STANDARD
END:VTIMEZONE
BEGIN:VTIMEZONE
TZID:America/New_York
BEGIN:DAYLIGHT
TZOFFSETFROM:-0500
TZOFFSETTO:-0400
TZNAME:EDT
DTSTART:20230312T070000
END:DAYLIGHT
BEGIN:STANDARD
TZOFFSETFROM:-0400
TZOFFSETTO:-0500
TZNAME:EST
DTSTART:20231105T060000
END:STANDARD
BEGIN:DAYLIGHT
TZOFFSETFROM:-0500
TZOFFSETTO:-0400
TZNAME:EDT
DTSTART:20240310T070000
END:DAYLIGHT
BEGIN:STANDARD
TZOFFSETFROM:-0400
TZOFFSETTO:-0500
TZNAME:EST
DTSTART:20241103T060000
END:STANDARD
BEGIN:DAYLIGHT
TZOFFSETFROM:-0500
TZOFFSETTO:-0400
TZNAME:EDT
DTSTART:20250309T070000
END:DAYLIGHT
BEGIN:STANDARD
TZOFFSETFROM:-0400
TZOFFSETTO:-0500
TZNAME:EST
DTSTART:20251102T060000
END:STANDARD
END:VTIMEZONE
BEGIN:VEVENT
DTSTART;TZID=America/Phoenix:20240216T140000
DTEND;TZID=America/Phoenix:20240216T170000
DTSTAMP:20260423T112143
CREATED:20240117T031007Z
LAST-MODIFIED:20240209T200309Z
UID:10000081-1708092000-1708102800@www.actionlearningnetwork.org
SUMMARY:ACTION/FON Spring Meeting @ Cardiology 2024 Conference
DESCRIPTION:SAVE THE DATE for the ACTION/FON Meeting at CHOP\n \nRSVP via Survey Monkey to join us for the ACTION/FON Meeting focusing on Advanced Cardiac Therapies for Fontan Patients  during CHOP’s Cardiology 2024 on \nFebruary 16\, from 2–5pm.   \nLocation: Hyatt Regency Scottsdale Resort & Spa at Gainey Ranc\n Room: Arroyo \n 
URL:https://www.actionlearningnetwork.org/event/action-spring2024-meeting/
LOCATION:Hyatt Regency Scottsdale Resort & Spa at Gainey Ranch\, 7500 E Doubletree Ranch Rd\, Scottsdale\, AZ\, 85258\, United States
CATEGORIES:ACTION Annual Meeting
ATTACH;FMTTYPE=image/png:https://www.actionlearningnetwork.org/wp-content/uploads/ACTION_FON_atCHOP_MeetingAgenda_20240126_1920x1080.png
END:VEVENT
BEGIN:VEVENT
DTSTART;TZID=America/New_York:20240214T080000
DTEND;TZID=America/New_York:20240218T170000
DTSTAMP:20260423T112143
CREATED:20231031T154328Z
LAST-MODIFIED:20240117T031100Z
UID:10000078-1707897600-1708275600@www.actionlearningnetwork.org
SUMMARY:Cardiology 2024 - CHOP Conference
DESCRIPTION:SAVE THE DATE for the ACTION/FON Meeting at CHOP\n(See Meeting Info here) \n  \nJoin CHOP for the 27th Annual Update on Pediatric and Congenital Cardiovascular Disease at the Hyatt Regency Scottsdale Resort and Spa at Gainey Ranch. \nWith plenary sessions\, subspecialty breakout sessions\, moderated panels and dynamic discussion groups\, Cardiology 2024 is a comprehensive post-graduate course for pediatric cardiologists\, intensivists\, surgeons\, nurses\, neonatologists\, anesthesiologists\, ACHD specialists\, sonographers\, perfusionists and all those involved in the care of patients with pediatric and congenital cardiovascular disease. \nRegister now \n 
URL:https://www.actionlearningnetwork.org/event/cardiology-2024-chop-conference/
LOCATION:Hyatt Regency Scottsdale Resort & Spa at Gainey Ranch\, 7500 E Doubletree Ranch Rd\, Scottsdale\, AZ\, 85258\, United States
CATEGORIES:Conferences
ATTACH;FMTTYPE=image/jpeg:https://www.actionlearningnetwork.org/wp-content/uploads/23-CME-234YKK-MPR-Cardiology-Save-the-Date-and-Logo-2024-v.03_Page_1.jpg
END:VEVENT
END:VCALENDAR