BEGIN:VCALENDAR
VERSION:2.0
PRODID:-//Advanced Cardiac Therapies Improving Outcomes Network - ECPv6.15.20//NONSGML v1.0//EN
CALSCALE:GREGORIAN
METHOD:PUBLISH
X-ORIGINAL-URL:https://www.actionlearningnetwork.org
X-WR-CALDESC:Events for Advanced Cardiac Therapies Improving Outcomes Network
REFRESH-INTERVAL;VALUE=DURATION:PT1H
X-Robots-Tag:noindex
X-PUBLISHED-TTL:PT1H
BEGIN:VTIMEZONE
TZID:America/Chicago
BEGIN:DAYLIGHT
TZOFFSETFROM:-0600
TZOFFSETTO:-0500
TZNAME:CDT
DTSTART:20240310T080000
END:DAYLIGHT
BEGIN:STANDARD
TZOFFSETFROM:-0500
TZOFFSETTO:-0600
TZNAME:CST
DTSTART:20241103T070000
END:STANDARD
BEGIN:DAYLIGHT
TZOFFSETFROM:-0600
TZOFFSETTO:-0500
TZNAME:CDT
DTSTART:20250309T080000
END:DAYLIGHT
BEGIN:STANDARD
TZOFFSETFROM:-0500
TZOFFSETTO:-0600
TZNAME:CST
DTSTART:20251102T070000
END:STANDARD
BEGIN:DAYLIGHT
TZOFFSETFROM:-0600
TZOFFSETTO:-0500
TZNAME:CDT
DTSTART:20260308T080000
END:DAYLIGHT
BEGIN:STANDARD
TZOFFSETFROM:-0500
TZOFFSETTO:-0600
TZNAME:CST
DTSTART:20261101T070000
END:STANDARD
BEGIN:DAYLIGHT
TZOFFSETFROM:-0600
TZOFFSETTO:-0500
TZNAME:CDT
DTSTART:20270314T080000
END:DAYLIGHT
BEGIN:STANDARD
TZOFFSETFROM:-0500
TZOFFSETTO:-0600
TZNAME:CST
DTSTART:20271107T070000
END:STANDARD
END:VTIMEZONE
BEGIN:VTIMEZONE
TZID:America/New_York
BEGIN:DAYLIGHT
TZOFFSETFROM:-0500
TZOFFSETTO:-0400
TZNAME:EDT
DTSTART:20240310T070000
END:DAYLIGHT
BEGIN:STANDARD
TZOFFSETFROM:-0400
TZOFFSETTO:-0500
TZNAME:EST
DTSTART:20241103T060000
END:STANDARD
BEGIN:DAYLIGHT
TZOFFSETFROM:-0500
TZOFFSETTO:-0400
TZNAME:EDT
DTSTART:20250309T070000
END:DAYLIGHT
BEGIN:STANDARD
TZOFFSETFROM:-0400
TZOFFSETTO:-0500
TZNAME:EST
DTSTART:20251102T060000
END:STANDARD
BEGIN:DAYLIGHT
TZOFFSETFROM:-0500
TZOFFSETTO:-0400
TZNAME:EDT
DTSTART:20260308T070000
END:DAYLIGHT
BEGIN:STANDARD
TZOFFSETFROM:-0400
TZOFFSETTO:-0500
TZNAME:EST
DTSTART:20261101T060000
END:STANDARD
END:VTIMEZONE
BEGIN:VEVENT
DTSTART;TZID=America/Chicago:20260130T160000
DTEND;TZID=America/Chicago:20260130T160700
DTSTAMP:20260424T105313
CREATED:20251204T163819Z
LAST-MODIFIED:20251205T163321Z
UID:10000140-1769788800-1769789220@www.actionlearningnetwork.org
SUMMARY:ACTION @ STS: Outcomes of Ventricular Assist Device Placement in Pediatric Patients with Renal Dysfunction Requiring Dialysis: An ACTION Registry Analysis
DESCRIPTION:Check out this upcoming ACTION oral presentation! \nSupport Michael Catalano\, et al. at the 2026 Society of Thoracic Surgeons (STS)  Annual Meeting in January! \nAbstract Number: A-719\nAbstract Title: Outcomes of ventricular assist device placement in pediatric patients with renal dysfunction requiring dialysis: an ACTION registry analysis \nSee more details on the conference here.
URL:https://www.actionlearningnetwork.org/event/action-sts-outcomes-of-ventricular-assist-device-placement-in-pediatric-patients-with-renal-dysfunction-requiring-dialysis-an-action-registry-analysis/
LOCATION:Ernest N. Morial Convention Center\, New Orleans\, LA\, United States
CATEGORIES:Conferences,STS
ATTACH;FMTTYPE=image/png:https://www.actionlearningnetwork.org/wp-content/uploads/STSAnnualMeeting2026_MCatalano_16x9-scaled.png
END:VEVENT
BEGIN:VEVENT
DTSTART;TZID=America/Chicago:20251110T125700
DTEND;TZID=America/Chicago:20251110T130200
DTSTAMP:20260424T105313
CREATED:20250925T222151Z
LAST-MODIFIED:20250926T164424Z
UID:10000138-1762779420-1762779720@www.actionlearningnetwork.org
SUMMARY:ACTION @ 2025 Scientific Sessions: Prevalence and Risk Factors for Ventricular Assist Device-Associated Infection in Children
DESCRIPTION:Prevalence and Risk Factors for Ventricular Assist Device-Associated Infection in Children: An Analysis of the ACTION Registry \nSupport Madeline Townsend\, et al. at the 2025 AHA Scientific Session in November! \nSee more details here
URL:https://www.actionlearningnetwork.org/event/25-aha-scientific-sessions-townsend/
LOCATION:Ernest N. Morial Convention Center\, New Orleans\, LA\, United States
CATEGORIES:AHA Scientific Sessions,Conferences
ATTACH;FMTTYPE=image/png:https://www.actionlearningnetwork.org/wp-content/uploads/AHAScientificSessions_25Townsend_16x9.png
END:VEVENT
BEGIN:VEVENT
DTSTART;VALUE=DATE:20251107
DTEND;VALUE=DATE:20251111
DTSTAMP:20260424T105313
CREATED:20250925T222910Z
LAST-MODIFIED:20250925T222939Z
UID:10000139-1762473600-1762819199@www.actionlearningnetwork.org
SUMMARY:AHA Scientific Sessions
DESCRIPTION:
URL:https://www.actionlearningnetwork.org/event/2025-aha-scientific-sessions/
LOCATION:Ernest N. Morial Convention Center\, New Orleans\, LA\, United States
CATEGORIES:AHA Scientific Sessions,Conferences
ATTACH;FMTTYPE=image/jpeg:https://www.actionlearningnetwork.org/wp-content/uploads/WF_826788_SS25_Toolkit_D.jpg
END:VEVENT
END:VCALENDAR