BEGIN:VCALENDAR
VERSION:2.0
PRODID:-//Advanced Cardiac Therapies Improving Outcomes Network - ECPv6.15.20//NONSGML v1.0//EN
CALSCALE:GREGORIAN
METHOD:PUBLISH
X-ORIGINAL-URL:https://www.actionlearningnetwork.org
X-WR-CALDESC:Events for Advanced Cardiac Therapies Improving Outcomes Network
REFRESH-INTERVAL;VALUE=DURATION:PT1H
X-Robots-Tag:noindex
X-PUBLISHED-TTL:PT1H
BEGIN:VTIMEZONE
TZID:America/Denver
BEGIN:DAYLIGHT
TZOFFSETFROM:-0700
TZOFFSETTO:-0600
TZNAME:MDT
DTSTART:20220313T090000
END:DAYLIGHT
BEGIN:STANDARD
TZOFFSETFROM:-0600
TZOFFSETTO:-0700
TZNAME:MST
DTSTART:20221106T080000
END:STANDARD
BEGIN:DAYLIGHT
TZOFFSETFROM:-0700
TZOFFSETTO:-0600
TZNAME:MDT
DTSTART:20230312T090000
END:DAYLIGHT
BEGIN:STANDARD
TZOFFSETFROM:-0600
TZOFFSETTO:-0700
TZNAME:MST
DTSTART:20231105T080000
END:STANDARD
BEGIN:DAYLIGHT
TZOFFSETFROM:-0700
TZOFFSETTO:-0600
TZNAME:MDT
DTSTART:20240310T090000
END:DAYLIGHT
BEGIN:STANDARD
TZOFFSETFROM:-0600
TZOFFSETTO:-0700
TZNAME:MST
DTSTART:20241103T080000
END:STANDARD
END:VTIMEZONE
BEGIN:VEVENT
DTSTART;TZID=America/Denver:20230418T150000
DTEND;TZID=America/Denver:20230418T180000
DTSTAMP:20260421T093855
CREATED:20230418T220052Z
LAST-MODIFIED:20230510T140350Z
UID:10000059-1681830000-1681840800@www.actionlearningnetwork.org
SUMMARY:ACTION Meeting @ ISHLT 2023
DESCRIPTION:RSVP to join us at the ACTION Spring 2023 Meeting\n@ ISHLT in Denver\, Colorado\nTuesday\, April 18th  | 3–6 pm MT |  Colorado Convention Center Rooms: 405-407 \n\n            \n  \nSee Spring Meeting Update
URL:https://www.actionlearningnetwork.org/event/ishlt23-actionmeeting/
LOCATION:ISHLT 2023- Colorado Convention Center\, Denver\, CO\, United States
CATEGORIES:ACTION Annual Meeting,Conferences,ISHLT
ATTACH;FMTTYPE=image/jpeg:https://www.actionlearningnetwork.org/wp-content/uploads/91432969-79B8-4ABF-AB45-C1CF7FC81AEB_crop-scaled.jpg
END:VEVENT
END:VCALENDAR