BEGIN:VCALENDAR
VERSION:2.0
PRODID:-//Advanced Cardiac Therapies Improving Outcomes Network - ECPv6.15.20//NONSGML v1.0//EN
CALSCALE:GREGORIAN
METHOD:PUBLISH
X-WR-CALNAME:Advanced Cardiac Therapies Improving Outcomes Network
X-ORIGINAL-URL:https://www.actionlearningnetwork.org
X-WR-CALDESC:Events for Advanced Cardiac Therapies Improving Outcomes Network
REFRESH-INTERVAL;VALUE=DURATION:PT1H
X-Robots-Tag:noindex
X-PUBLISHED-TTL:PT1H
BEGIN:VTIMEZONE
TZID:America/New_York
BEGIN:DAYLIGHT
TZOFFSETFROM:-0500
TZOFFSETTO:-0400
TZNAME:EDT
DTSTART:20220313T070000
END:DAYLIGHT
BEGIN:STANDARD
TZOFFSETFROM:-0400
TZOFFSETTO:-0500
TZNAME:EST
DTSTART:20221106T060000
END:STANDARD
BEGIN:DAYLIGHT
TZOFFSETFROM:-0500
TZOFFSETTO:-0400
TZNAME:EDT
DTSTART:20230312T070000
END:DAYLIGHT
BEGIN:STANDARD
TZOFFSETFROM:-0400
TZOFFSETTO:-0500
TZNAME:EST
DTSTART:20231105T060000
END:STANDARD
BEGIN:DAYLIGHT
TZOFFSETFROM:-0500
TZOFFSETTO:-0400
TZNAME:EDT
DTSTART:20240310T070000
END:DAYLIGHT
BEGIN:STANDARD
TZOFFSETFROM:-0400
TZOFFSETTO:-0500
TZNAME:EST
DTSTART:20241103T060000
END:STANDARD
END:VTIMEZONE
BEGIN:VEVENT
DTSTART;TZID=America/New_York:20230921T190000
DTEND;TZID=America/New_York:20230921T210000
DTSTAMP:20260423T082132
CREATED:20230914T141536Z
LAST-MODIFIED:20230914T141603Z
UID:10000075-1695322800-1695330000@www.actionlearningnetwork.org
SUMMARY:ACTION & ICCAC Networking Happy Hour
DESCRIPTION:Join ICCAC & ACTION before the International Pediatric VAD and Heart Failure Summit for a \nNetworking Happy Hour on Thursday\, September 21st from7–9 pm at Brennan’s \n316 N Euclid Ave\, St. Louis\, MO 63108 \nAppetizers will be provided.
URL:https://www.actionlearningnetwork.org/event/iccac-networking-happy-hour/
LOCATION:Brennan’s\, 316 N Euclid Ave\, St. Louis\, MO\, 63108\, United States
ATTACH;FMTTYPE=image/png:https://www.actionlearningnetwork.org/wp-content/uploads/ICCAC_ACTION_HappyHour_2023.png
END:VEVENT
END:VCALENDAR